BEGIN:VCALENDAR
METHOD:PUBLISH
VERSION:2.0
CALSCALE:GREGORIAN
PRODID:-//NONSGML WPForms//NONSGML Sugar Calendar Feeds v3.11.0//EN
X-WR-CALNAME:Fantasy Book Club
X-WR-CALDESC:Skillshotz Gaming
X-WR-TIMEZONE:UTC
BEGIN:VTIMEZONE
TZID:UTC
BEGIN:STANDARD
TZOFFSETFROM:+0000
TZOFFSETTO:+0000
DTSTART:20250319T070000
TZNAME:UTC
END:STANDARD
END:VTIMEZONE
BEGIN:VTIMEZONE
TZID:UTC
BEGIN:STANDARD
TZOFFSETFROM:+0000
TZOFFSETTO:+0000
DTSTART:20250319T070000
TZNAME:UTC
END:STANDARD
END:VTIMEZONE
BEGIN:VEVENT
SUMMARY:Fantasy Book Club
DESCRIPTION:
URL;VALUE=URI:https://skillshotzgaming.com/events/fantasy-book-club/
UID:urn:uuid:200e2d4c-438c-46b2-80e2-c5a019464650
STATUS:CONFIRMED
ORGANIZER:
DTSTAMP:20260422T084604Z
DTSTART;TZID=UTC:20250917T190000
DTEND;TZID=UTC:20250917T210000
END:VEVENT
END:VCALENDAR